BEGIN:VCALENDAR
VERSION:2.0
PRODID:-//ChamberMaster//Event Calendar 2.0//EN
METHOD:PUBLISH
X-PUBLISHED-TTL:P3D
REFRESH-INTERVAL:P3D
CALSCALE:GREGORIAN
BEGIN:VEVENT
DTSTART:20250626T230000Z
DTEND:20250627T030000Z
X-MICROSOFT-CDO-ALLDAYEVENT:FALSE
SUMMARY:DIFFA Tales of the Tides Gala 2025
DESCRIPTION:Join us on Thursday\, June 26 for an unforgettable evening at Castaways Beach Club! Guests will be immersed in the wonders of oceanic lore - from the sirens' songs to Poseidon's reign - all while supporting the fight against HIV/AIDS
X-ALT-DESC;FMTTYPE=text/html:<span style="font-size:14px"><span style="font-family:arial\,helvetica\,sans-serif"><strong>Join us on Thursday\, June 26 for an unforgettable evening at Castaways Beach Club!&nbsp\;</strong><span style="background-color:rgb(255\, 255\, 255)">Guests will be immersed in the wonders of oceanic lore - from the sirens&rsquo\; songs to Poseidon&rsquo\;s reign - all while supporting the fight against HIV/AIDS</span></span></span>
LOCATION:Castaways Beach Club 1603 N Jean Baptiste Pointe du Sable Lake Shore Dr Chicago\, IL\, 60611
UID:e.2719.5523
SEQUENCE:3
DTSTAMP:20260425T214223Z
URL:https://partners.exploreuptown.org/events/details/diffa-tales-of-the-tides-gala-2025-5523
END:VEVENT

END:VCALENDAR
