BEGIN:VCALENDAR
VERSION:2.0
PRODID:-//ChamberMaster//Event Calendar 2.0//EN
METHOD:PUBLISH
X-PUBLISHED-TTL:P3D
REFRESH-INTERVAL:P3D
CALSCALE:GREGORIAN
BEGIN:VEVENT
DTSTART:20260420T220000Z
DTEND:20260421T010000Z
X-MICROSOFT-CDO-ALLDAYEVENT:FALSE
SUMMARY:Friends of Brennemann's Spring Fling at The Reservoir!
DESCRIPTION:Sip\, savor\, celebrate\, at Friends of Brennemann's Annual Spring Fling Fundraiser!\n\nJoin us for cocktails\, delicious bites and a festive evening in support of our local public school\, Brennemann Elementary. Bring a friend\, meet the Principal and staff of Brennemann\, and enter to win a door prize.\n\nEvery ticket supports Brennemann   and you'll have the option to deepen your impact by sponsoring a teacher to attend the event or by adding a donation to FOB at checkout.\n\nMonday\, April 20th\, 2025\n\n5 - 8PM at The Reservoir\, 844 W Montrose Ave\n\nTickets are $75 and include food and 2 drink tickets.\n\nTickets are $85 at the door.\n\n \n\nLearn more about Friends of Brennemann\, or make a donation at: friendsofbrennemann.org
X-ALT-DESC;FMTTYPE=text/html:<p>Sip\, savor\, celebrate\, at Friends of Brennemann&rsquo\;s Annual Spring Fling Fundraiser!</p>\n\n<p>Join us for cocktails\, delicious bites and a festive evening in support of our local public school\, Brennemann Elementary. Bring a friend\, meet the Principal and staff of Brennemann\, and enter to win a door prize.</p>\n\n<p>Every ticket supports Brennemann &mdash\; and you&rsquo\;ll have the option to deepen your impact by sponsoring a teacher to attend the event or by adding a donation to FOB at checkout.</p>\n\n<p>Monday\, April 20th\, 2025<br />\n5 - 8PM at The Reservoir\, 844 W Montrose Ave<br />\nTickets are $75 and include food and 2 drink tickets.<br />\nTickets are $85 at the door.</p>\n\n<p>&nbsp\;</p>\n\n<p>Learn more about Friends of Brennemann\, or make a donation at: friendsofbrennemann.org</p>\n\n<p>&nbsp\;</p>\n
LOCATION:The Reservoir\, 844 W Montrose Ave
UID:e.2719.6952
SEQUENCE:3
DTSTAMP:20260425T025335Z
URL:https://partners.exploreuptown.org/events/details/friends-of-brennemann-s-spring-fling-at-the-reservoir-6952
END:VEVENT

END:VCALENDAR
