BEGIN:VCALENDAR
VERSION:2.0
PRODID:-//ChamberMaster//Event Calendar 2.0//EN
METHOD:PUBLISH
X-PUBLISHED-TTL:P3D
REFRESH-INTERVAL:P3D
CALSCALE:GREGORIAN
BEGIN:VEVENT
DTSTART:20250624T170000Z
DTEND:20250624T170000Z
X-MICROSOFT-CDO-ALLDAYEVENT:FALSE
SUMMARY:Grand Opening - Le Village Lakeview
DESCRIPTION:Join us for our grand opening featuring free music\, movement and mindfulness activities for adults and little ones of all ages! Check out our beautiful indoor/outdoor community space\, enjoy some free food/drinks\, and take part in one of our many planned activities for the day.\n\n \n\nMore details to come! If you're a local business interested in partnering with us or being featured at our event (particularly mom- or women-owned)\, please reach out.
X-ALT-DESC;FMTTYPE=text/html:<div><span style="font-size:14px\;">Join us for our grand opening featuring free music\, movement and mindfulness activities for adults and little ones of all ages! Check out our beautiful indoor/outdoor community space\, enjoy some free food/drinks\, and take part in one of our many planned activities for the day.</span><br />\n&nbsp\;</div>\n\n<div><span style="font-size:14px\;">More details to come! If you&#39\;re a local business interested in partnering with us or being featured at our event (particularly mom- or women-owned)\, please reach out.&nbsp\;</span></div>\n
LOCATION:4021 N Broadway St Chicago IL 60613
UID:e.2719.5667
SEQUENCE:3
DTSTAMP:20260425T214423Z
URL:https://partners.exploreuptown.org/events/details/grand-opening-le-village-lakeview-06-24-2025-5667
END:VEVENT

END:VCALENDAR
