BEGIN:VCALENDAR
VERSION:2.0
PRODID:-//ChamberMaster//Event Calendar 2.0//EN
METHOD:PUBLISH
X-PUBLISHED-TTL:P3D
REFRESH-INTERVAL:P3D
CALSCALE:GREGORIAN
BEGIN:VEVENT
DTSTART:20250624T140000Z
DTEND:20250624T153000Z
X-MICROSOFT-CDO-ALLDAYEVENT:FALSE
SUMMARY:June Business Referral Networking at Breakfast House Uptown
DESCRIPTION:Business Referral Networking events are designed to promote partnership between complementary business sectors for business growth. Attendees of these monthly Tuesday morning energizers typically attend to build their referral network and find referral partners. Referral partners from the same industry are natural recommenders for next-step professionals.  Referral partners from differing industries often share clientele of the same demographic or a shared community.  This month we'll discuss options available online . . . . for local connections.
X-ALT-DESC;FMTTYPE=text/html:<span style="font-family:tahoma\;"><span style="font-size:14px\;"><span style="font-size:16px\;">Business Referral Networking events are designed to promote partnership between complementary business sectors for business growth.&nbsp\;Attendees of these monthly Tuesday morning energizers typically attend to build their referral network and find referral partners. Referral partners from the same industry are natural recommenders for next-step professionals.&nbsp\; Referral partners from differing industries often share clientele of the same demographic or a shared community.&nbsp\; This month we&#39\;ll discuss options available online . . . . for local connections.&nbsp\;&nbsp\;</span></span></span>
LOCATION:Breakfast House Uptown\, 1020 W Lawrence Ave\, Chicago\, IL\, 60640
UID:e.2719.3884
SEQUENCE:3
DTSTAMP:20260425T203008Z
URL:https://partners.exploreuptown.org/events/details/june-business-referral-networking-at-breakfast-house-uptown-3884
END:VEVENT

END:VCALENDAR
