BEGIN:VCALENDAR
VERSION:2.0
PRODID:-//ChamberMaster//Event Calendar 2.0//EN
METHOD:PUBLISH
X-PUBLISHED-TTL:P3D
REFRESH-INTERVAL:P3D
CALSCALE:GREGORIAN
BEGIN:VEVENT
DTSTART;VALUE=DATE:20250503
DTEND;VALUE=DATE:20250504
TRANSP:TRANSPARENT
X-MICROSOFT-CDO-ALLDAYEVENT:TRUE
SUMMARY:Kirtan Chicago Biocharger NG
DESCRIPTION:Frequency Kirtan Chicago\n\nled by Cindy Huston\,\n\nfounder of Yoga Body Elements and Uptown Wellness Festival Chicago\n\n\n\nRegister at \n\nwww.yogabodyelements.com/events\n\n\n\n$25.00\n\n\n\nBalancing the body's frequency through sound and light. \n\n\n\nTogether we share ancient Sanskrit mantras chanted while the harmonium is played with the Biocharger NG frequency enhancement system. \n\n\n\nWhat is the Biocharger NG?\n\n\n\nThe BioCharger NG is a health optimization platform designed to transmit energy that stimulates and invigorates the entire body to optimize and improve potential health\, wellness\, and athletic performance.\n\n\n\nEnergy\n\nThe BioCharger NG will revitalize your body to perform at peak levels and have you bouncing out of bed.\n\n\n\nRecovery\n\nWhether it's a workout\, an injury\, stress\, or the bumps and bruises of everyday life\, the BioCharger NG platform will allow you a quicker bounce-back.\n\n\n\nPerformance\n\nGetting the most out of your body comes down to effort\, practice\, and the recovery that follows. Just 15 minutes a day with the BioCharger NG can accelerate you toward your new personal best.\n\n\n\nFocus\n\nThe BioCharger NG helps align your mind and body to allow you to work efficiently.
X-ALT-DESC;FMTTYPE=text/html:Frequency Kirtan Chicago<br />\nled by Cindy Huston\,<br />\nfounder of Yoga Body Elements and Uptown Wellness Festival Chicago<br />\n<br />\nRegister at&nbsp\;<br />\nwww.yogabodyelements.com/events<br />\n<br />\n$25.00<br />\n<br />\nBalancing the body&#39\;s frequency through sound and light.&nbsp\;<br />\n<br />\nTogether we share ancient Sanskrit mantras chanted while the harmonium is played with the Biocharger NG frequency enhancement system.&nbsp\;<br />\n<br />\nWhat is the Biocharger NG?<br />\n<br />\nThe BioCharger NG is a health optimization platform designed to transmit energy that stimulates and invigorates the entire body to optimize and improve potential health\, wellness\, and athletic performance.<br />\n<br />\nEnergy<br />\nThe BioCharger NG will revitalize your body to perform at peak levels and have you bouncing out of bed.<br />\n<br />\nRecovery<br />\nWhether it&rsquo\;s a workout\, an injury\, stress\, or the bumps and bruises of everyday life\, the BioCharger NG platform will allow you a quicker bounce-back.<br />\n<br />\nPerformance<br />\nGetting the most out of your body comes down to effort\, practice\, and the recovery that follows. Just 15 minutes a day with the BioCharger NG can accelerate you toward your new personal best.<br />\n<br />\nFocus<br />\nThe BioCharger NG helps align your mind and body to allow you to work efficiently.
LOCATION:Yoga Body Elements 4007 N. Broadway 2nd Floor Chicago\, IL 60613
UID:e.2719.5509
SEQUENCE:3
DTSTAMP:20260419T153636Z
URL:https://partners.exploreuptown.org/events/details/kirtan-chicago-biocharger-ng-05-03-2025-5509
END:VEVENT

END:VCALENDAR
