BEGIN:VCALENDAR
VERSION:2.0
PRODID:-//ChamberMaster//Event Calendar 2.0//EN
METHOD:PUBLISH
X-PUBLISHED-TTL:P3D
REFRESH-INTERVAL:P3D
CALSCALE:GREGORIAN
BEGIN:VEVENT
DTSTART;VALUE=DATE:20250519
DTEND;VALUE=DATE:20250520
TRANSP:TRANSPARENT
X-MICROSOFT-CDO-ALLDAYEVENT:TRUE
SUMMARY:Learn Cupping\, Gua Sha\, Essential Oils Chicago (Continuing Education)
DESCRIPTION:Learn cupping\, gua sha\, and a introduction to essential oils.\n\nCupping is a traditional method of treatment used by many cultures. A variety of cup sizes are placed on the skin creating a small vacuum\, causing the blood to circulate\, and pulls blood toward the surface of the body. Benefits include increased blood flow and circulation in the body.\n\n\n\nGua Sha helps to move blood flow and increase circulation using a smooth edge such as a spoon.\n\n\n\nEssential oils and plants have been used in ancient practices such as aromatherapy over thousands of years to aid health. We will be discussing twenty-one oils with uplifting emotional properties for total mind/body wellness.\n\n\n\n* Sample and Smell\n\n* Learn the benefits of each oil\n\n* Discuss how to use each oil\n\n\n\n*Limited 10 registrations\n\n$150.00 includes 5 CE Hours\n\n\n\n*Cindy Huston is approved by the National Certification Board for Therapeutic Massage & Bodywork (NCBTMB) as a continuing education Approved Provider. 706340/30\n\nYoga Alliance Continuing Education Approved Provider ID:130372\n\n \nOrder Now\n\nhttps://www.youngliving.com/us/en/referral/1371973
X-ALT-DESC;FMTTYPE=text/html:Learn cupping\, gua sha\, and a introduction to essential oils.<br />\nCupping is a traditional method of treatment used by many cultures. A variety of cup sizes are placed on the skin creating a small vacuum\, causing the blood to circulate\, and pulls blood toward the surface of the body. Benefits include increased blood flow and circulation in the body.<br />\n<br />\nGua Sha helps to move blood flow and increase circulation using a smooth edge such as a spoon.<br />\n<br />\nEssential oils and plants have been used in ancient practices such as aromatherapy over thousands of years to aid health. We will be discussing twenty-one oils with uplifting emotional properties for total mind/body wellness.<br />\n<br />\n* Sample and Smell<br />\n* Learn the benefits of each oil<br />\n* Discuss how to use each oil<br />\n<br />\n*Limited 10 registrations<br />\n$150.00 includes 5 CE Hours<br />\n<br />\n*Cindy Huston is approved by the National Certification Board for Therapeutic Massage &amp\; Bodywork (NCBTMB) as a continuing education Approved Provider. 706340/30<br />\nYoga Alliance Continuing Education Approved Provider ID:130372<br />\n&nbsp\;\n<div>Order Now</div>\n\n<div><span style="font-family:inherit"><a class="x1i10hfl xjbqb8w x1ejq31n xd10rxx x1sy0etr x17r0tee x972fbf xcfux6l x1qhh985 xm0m39n x9f619 x1ypdohk xt0psk2 xe8uvvx xdj266r x11i5rnm xat24cr x1mh8g0r xexx8yu x4uap5 x18d9i69 xkhd6sd x16tdsg8 x1hl2dhg xggy1nq x1a2a7pz xkrqix3 x1sur9pj x1fey0fg x1s688f" href="https://www.youngliving.com/us/en/referral/1371973?fbclid=IwZXh0bgNhZW0CMTAAAR668Sq8njSfq4kpTNdWgFKlYD0X0Q0BQXrRTFjXUMFo4Q3p-jaN2ZQSmUsN1A_aem_ukERVFBsJFe7pqPUNikugw" rel="nofollow noreferrer" style="color: rgb(90\, 167\, 255)\; cursor: pointer\; text-decoration-line: none\; list-style: none\; margin: 0px\; text-align: inherit\; border-style: none\; padding: 0px\; box-sizing: border-box\; border-width: 0px\; outline: none\; -webkit-tap-highlight-color: transparent\; font-weight: 600\; touch-action: manipulation\; background-color: transparent\; display: inline-block\; font-family: inherit\;" tabindex="0" target="_blank">https://www.youngliving.com/us/en/referral/1371973</a></span></div>\n
LOCATION:Yoga Body Elements 4007 N. Broadway Chicago\, IL 60613
UID:e.2719.4522
SEQUENCE:3
DTSTAMP:20260419T152804Z
URL:https://partners.exploreuptown.org/events/details/learn-cupping-gua-sha-essential-oils-chicago-continuing-education-4522
END:VEVENT

END:VCALENDAR
