BEGIN:VCALENDAR
VERSION:2.0
PRODID:-//ChamberMaster//Event Calendar 2.0//EN
METHOD:PUBLISH
X-PUBLISHED-TTL:P3D
REFRESH-INTERVAL:P3D
CALSCALE:GREGORIAN
BEGIN:VEVENT
DTSTART;VALUE=DATE:20250505
DTEND;VALUE=DATE:20250506
TRANSP:TRANSPARENT
X-MICROSOFT-CDO-ALLDAYEVENT:TRUE
SUMMARY:Learn Essential Oils Chicago
DESCRIPTION:Learn Essential Oils Chicago\n\n\n\nEssential oils and plants have been considered by many to be the missing link in modern medicine. A ancient practice such as aromatherapy has been used over thousands of years to improve the bodies health. Come experience many of these oils in person! We will be discussing the 100% pure grade Young Living essential oils with uplifting emotional properties for total mind/body wellness.\n\n\n\n* Sample and Smell\n\n* Learn the benefits of each oil\n\n* Discuss how to use each oil\n\n\n\nRelax and balance your mind\, body\, and emotions with a friend!\n\n$25.00 No CEs included\n\n$50.00 with CE credits\n\n*Approved by NCBTMB for Massage Therapists. Approved by Yoga Alliance for Registered Yoga Instructors\n\n\n\nOrder Young Living today:\n\nhttps://www.youngliving.com/us/en/referral/1371973\n\n(Young Living Essential oils will be available for purchase.)\n\n\n\nCindy Huston is a Experienced Registered Yoga Instructor\, Licensed Massage Therapist\, and Reiki Master Teacher. She has been working with Young Living Essential oils since 2013.\n\n*Approved by the National Certification Board for Therapeutic Massage & Bodywork (NCBTMB) as a continuing education Approved Provider. 706340/30\n\nYoga Alliance Continuing Education Approved Provider ID:130372\n\n\n\nChicago Young Living Independent Consultant
X-ALT-DESC;FMTTYPE=text/html:Learn Essential Oils Chicago<br />\n<br />\nEssential oils and plants have been considered by many to be the missing link in modern medicine. A ancient practice such as aromatherapy has been used over thousands of years to improve the bodies health. Come experience many of these oils in person! We will be discussing the 100% pure grade Young Living essential oils with uplifting emotional properties for total mind/body wellness.<br />\n<br />\n* Sample and Smell<br />\n* Learn the benefits of each oil<br />\n* Discuss how to use each oil<br />\n<br />\nRelax and balance your mind\, body\, and emotions with a friend!<br />\n$25.00 No CEs included<br />\n$50.00 with CE credits<br />\n*Approved by NCBTMB for Massage Therapists. Approved by Yoga Alliance for Registered Yoga Instructors<br />\n<br />\nOrder Young Living today:<br />\n<a class="x1fey0fg xmper1u x1edh9d7" dir="ltr" href="https://www.youngliving.com/us/en/referral/1371973">https://www.youngliving.com/us/en/referral/1371973</a><br />\n(Young Living Essential oils will be available for purchase.)<br />\n<br />\nCindy Huston is a Experienced Registered Yoga Instructor\, Licensed Massage Therapist\, and Reiki Master Teacher. She has been working with Young Living Essential oils since 2013.<br />\n*Approved by the National Certification Board for Therapeutic Massage &amp\; Bodywork (NCBTMB) as a continuing education Approved Provider. 706340/30<br />\nYoga Alliance Continuing Education Approved Provider ID:130372<br />\n<br />\nChicago Young Living Independent Consultant
LOCATION:Yoga Body Elements 2nd Floor Chicago\, IL *press #202 slowly
UID:e.2719.4520
SEQUENCE:3
DTSTAMP:20260419T152759Z
URL:https://partners.exploreuptown.org/events/details/learn-essential-oils-chicago-05-05-2025-4520
END:VEVENT

END:VCALENDAR
