BEGIN:VCALENDAR
VERSION:2.0
PRODID:-//ChamberMaster//Event Calendar 2.0//EN
METHOD:PUBLISH
X-PUBLISHED-TTL:P3D
REFRESH-INTERVAL:P3D
CALSCALE:GREGORIAN
BEGIN:VEVENT
DTSTART:20171024T223000Z
DTEND:20171025T003000Z
X-MICROSOFT-CDO-ALLDAYEVENT:FALSE
SUMMARY:October Networking Mixer
DESCRIPTION:Join us Tuesday\, October 24\, for a networking mixer at Uptown Lounge!  Meet other business owners\, non-profit leaders\, and community members and enjoy great food and drinks at a fabulous Uptown location.  Food provided by Papa Ray's Pizza & Wings.  \n\nOur monthly Member Mixers build community among Uptown businesses and non-profits\, strengthening our local economy through the development of strategic partnerships.\n\n\n\nLight food and drinks will be provided. \n\n\n\nFROM OUR HOST:  Uptown Lounge\n\n\n\nThe North Side's finest & friendliest late night hangout for 15 years!  Karaoke\, Live Music\, and Special Events keep you going until the late hours of the night.  Come as you are\, everyone is welcome to pile in for a good time!  Explore our selection of 100+ craft beers and relax in a booth or belly up to the bar with the coolest staff in the city.
X-ALT-DESC;FMTTYPE=text/html:<div class="cc-block" id="cc-block3" style="margin: 0px 0px 18px\; padding: 0px\; overflow: hidden\; color: rgb(0\, 0\, 0)\; font-family: Georgia\, 'Times New Roman'\, Times\, serif\; font-size: 12px\; line-height: 17.4px\;">\n<p style="margin: 0px 0px 18px\; padding: 0px\;"><span style="font-size:16px\;"><span style="font-family:arial\;"><span title=""><span title="">Join us Tuesday\, October 24\, for a networking mixer at Uptown Lounge!&nbsp\; Meet other business owners\, non-profit leaders\,&nbsp\;and community members and enjoy great food and drinks at a fabulous Uptown location.&nbsp\; Food provided by Papa Ray&#39\;s Pizza &amp\; Wings.&nbsp\;&nbsp\;</span></span></span></span></p>\n\n<p style="margin: 0px 0px 18px\; padding: 0px\;"><span style="font-size:16px\;"><span style="font-family:arial\;"><span title=""><span title="">Our monthly Member Mixers build community among Uptown businesses and non-profits\, strengthening our local economy through the development of strategic partnerships.</span></span></span></span><br />\n<br />\n<span style="color: rgb(0\, 0\, 0)\; font-family: arial\; font-size: 16px\;">Light food and drinks will be provided.&nbsp\;</span><br />\n<br />\n<span style="font-size:16px\;"><span style="font-family:arial\;"><span title=""><span title=""><strong>FROM OUR HOST:&nbsp\; Uptown Lounge</strong></span></span><br />\n<br />\nThe North Side&#39\;s finest &amp\; friendliest late night hangout for 15 years!&nbsp\; Karaoke\, Live Music\, and Special Events keep you going until the late hours of the night.&nbsp\; Come as you are\, everyone is welcome to pile in for a good time!&nbsp\; Explore our selection of 100+ craft beers and relax in a booth or belly up to the bar with the coolest staff in the city.</span></span></p>\n\n<h2 id="u938-5" style="margin: 0px\; padding: 0px\; border-width: 0px\; border-style: solid\; border-color: transparent\; transform-origin: left top 0px\; background-repeat: no-repeat\; font-size: 14px\; font-weight: normal\; max-height: 1e+06px\; line-height: 0px\; font-family: Arial\, &quot\;Helvetica Neue&quot\;\, Helvetica\, sans-serif\; background-color: rgb(63\, 62\, 61)\;">&nbsp\;</h2>\n</div>\n
LOCATION:Uptown Lounge\, 1136 W. Lawrence\, Chicago\, IL 60640
UID:e.2719.420
SEQUENCE:3
DTSTAMP:20260421T052939Z
URL:https://partners.exploreuptown.org/events/details/october-networking-mixer-420
END:VEVENT

END:VCALENDAR
