BEGIN:VCALENDAR
VERSION:2.0
PRODID:-//ChamberMaster//Event Calendar 2.0//EN
METHOD:PUBLISH
X-PUBLISHED-TTL:P3D
REFRESH-INTERVAL:P3D
CALSCALE:GREGORIAN
BEGIN:VEVENT
DTSTART:20260207T193000Z
DTEND:20260207T213000Z
X-MICROSOFT-CDO-ALLDAYEVENT:FALSE
SUMMARY:Partner Massage and Energy Chicago
DESCRIPTION:Partner Massage and Energy Care Chicago you will learn massage techniques and allow yourself to be nurtured while nurturing your loved one. This workshop will discuss physical and energetic care. Basic massage techniques will be taught from various massage modalities: Swedish\, Thai\, Acupressure and Tui Na. All techniques can be brought home and practiced daily. Some techniques we will involve the use of tools which will be provided.\n\n*Massage will be practiced clothed. \n\nPlease dress comfortably: yoga clothes are perfect!\n\n*All ages are welcome.\n\n*No previous experience necessary.\n\n*Participants register and attend as a couple.\n\nFeel free to bring a massage table if you have one.\n\n\n\nLead by Cindy Huston: Founder of Yoga Body Elements\, 16 years licensed massage therapist\, Reiki Master/Teacher\, and E-RYT yoga instructor.\n\n\n\nRegister Here\n\nhttps://yogabodyelements.com/product/partner-massage-chicago/\n\n\n\nQuestions? \n\nText the wellness center at 773-891-7071
X-ALT-DESC;FMTTYPE=text/html:Partner Massage and Energy Care Chicago you will learn massage techniques and allow yourself to be nurtured while nurturing your loved one. This workshop will discuss physical and energetic care. Basic massage techniques will be taught from various massage modalities: Swedish\, Thai\, Acupressure and Tui Na. All techniques can be brought home and practiced daily. Some techniques we will involve the use of tools which will be provided.<br />\n*Massage will be practiced clothed.&nbsp\;<br />\nPlease dress comfortably: yoga clothes are perfect!<br />\n*All ages are welcome.<br />\n*No previous experience necessary.<br />\n*Participants register and attend as a couple.<br />\nFeel free to bring a massage table if you have one.<br />\n<br />\nLead by Cindy Huston: Founder of Yoga Body Elements\, 16 years licensed massage therapist\, Reiki Master/Teacher\, and E-RYT yoga instructor.<br />\n<br />\nRegister Here<br />\nhttps://yogabodyelements.com/product/partner-massage-chicago/<br />\n<br />\nQuestions?&nbsp\;<br />\nText the wellness center at 773-891-7071
LOCATION:Yoga Body Elements 4007 N. Broadway Chicago\, IL
UID:e.2719.6124
SEQUENCE:3
DTSTAMP:20260425T023234Z
URL:https://partners.exploreuptown.org/events/details/partner-massage-and-energetic-care-6124
END:VEVENT

END:VCALENDAR
