BEGIN:VCALENDAR
VERSION:2.0
PRODID:-//ChamberMaster//Event Calendar 2.0//EN
METHOD:PUBLISH
X-PUBLISHED-TTL:P3D
REFRESH-INTERVAL:P3D
CALSCALE:GREGORIAN
BEGIN:VEVENT
DTSTART:20250627T233000Z
DTEND:20250628T003000Z
X-MICROSOFT-CDO-ALLDAYEVENT:FALSE
SUMMARY:Queer Dance Party: Celebrating Joy\, Movement\, and Community
DESCRIPTION:Queer Dance Party: Celebrating Joy\, Movement\, and Community\n\nA Donation-Based Event \n\n?? Date: June 27\, 2025\n\n? Time: 6:30pm-7:30pm CST\n\n?? Location: BodiShak: 4609 N. Clark St. Chicago\, IL 60640\n\n?? Donation-Based: Pay what feels right\n\nGet ready to move\, groove\, and celebrate! Join us for a vibrant Queer Dance Party hosted by Ashantis (she/they) of Bellamy & Associates and Toni of BodiShak. This event is all about embracing queer joy\, inclusive movement\, and the power of community.\n\nWhat to Expect:\n\n\n	Energetic Dance Session: No dance experience required! Just bring your authentic self and be ready to have fun.\n	Inclusive Environment: A safe and welcoming space for all identities and bodies.\n	Light Refreshments: Enjoy snacks as we mingle and connect. \n\n\nWho Should Attend:\n\nThis event is open to everyone who wants to celebrate diversity\, express themselves through movement\, and connect with the community. Whether you're a seasoned dancer or just looking to try something new\, come as you are!\n\nAbout the Co-Hosts:\n\nAshantis Jones (she/they) is a passionate advocate for holistic wellness and community engagement at Bellamy & Associates.\n\nToni C leads BodiShak\, a Chicago-based gym dedicated to inclusive fitness and empowering individuals through movement.\n\nReserve Your Spot Today!\n\nSpaces are limited\, so be sure to register in advance. Let's come together to celebrate\, dance\, and uplift one another!\n\nNote: This event is donation-based\, with all contributions supporting our ongoing community initiatives.\n\nFitness Waiver: All attendees will need to sign this fitness waiver in order to attend
X-ALT-DESC;FMTTYPE=text/html:<p><strong>Queer Dance Party: Celebrating Joy\, Movement\, and Community</strong><br />\n<em>A Donation-Based Event&nbsp\;</em></p>\n\n<p><strong>?? Date:</strong>&nbsp\;June 27\, 2025<br />\n<strong>? Time:</strong>&nbsp\;6:30pm-7:30pm CST<br />\n<strong>?? Location:</strong>&nbsp\;BodiShak: 4609 N. Clark St. Chicago\, IL 60640<br />\n<strong>?? Donation-Based:</strong>&nbsp\;Pay what feels right</p>\n\n<p>Get ready to move\, groove\, and celebrate! Join us for a vibrant&nbsp\;<strong>Queer Dance Party</strong>&nbsp\;hosted by&nbsp\;<strong>Ashantis</strong> (she/they)<strong>&nbsp\;</strong>of Bellamy &amp\; Associates and&nbsp\;<strong>Toni</strong>&nbsp\;of BodiShak. This event is all about embracing&nbsp\;<strong>queer joy</strong>\,&nbsp\;<strong>inclusive movement</strong>\, and the power of&nbsp\;<strong>community</strong>.</p>\n\n<p><strong>What to Expect:</strong></p>\n\n<ul>\n	<li><strong>Energetic Dance Session:</strong>&nbsp\;No dance experience required! Just bring your authentic self and be ready to have fun.</li>\n	<li><strong>Inclusive Environment:</strong>&nbsp\;A safe and welcoming space for all identities and bodies.</li>\n	<li><strong>Light Refreshments:</strong>&nbsp\;Enjoy snacks as we mingle and connect.&nbsp\;</li>\n</ul>\n\n<p><strong>Who Should Attend:</strong></p>\n\n<p>This event is open to everyone who wants to celebrate diversity\, express themselves through movement\, and connect with the community. Whether you&#39\;re a seasoned dancer or just looking to try something new\, come as you are!</p>\n\n<p><strong>About the Co-Hosts:</strong></p>\n\n<p><strong>Ashantis Jones (she/they)</strong>&nbsp\;is a passionate advocate for holistic wellness and community engagement at Bellamy &amp\; Associates.</p>\n\n<p><strong>Toni</strong>&nbsp\;<strong>C&nbsp\;</strong>leads BodiShak\, a Chicago-based gym dedicated to inclusive fitness and empowering individuals through movement.</p>\n\n<p><strong>Reserve Your Spot Today!</strong></p>\n\n<p>Spaces are limited\, so be sure to register in advance. Let&#39\;s come together to celebrate\, dance\, and uplift one another!</p>\n\n<p><em><strong>Note</strong>: This event is donation-based\, with all contributions supporting our ongoing community initiatives.</em></p>\n\n<p><em><strong>Fitness Waiver</strong></em><em>: All attendees will need to&nbsp\;</em><a href="https://forms.gle/hpy6ZdDEyLw5ejJB8" rel="nofollow noopener noreferrer" style="color: rgb(54\, 89\, 227)\; box-sizing: border-box\;" target="_blank" title="https://forms.gle/hpy6ZdDEyLw5ejJB8"><em>sign this fitness waiver</em></a><em>&nbsp\;in order to attend</em></p>\n
LOCATION:Bodi Shak: 4609 N. Clark St. Chicago\, IL 60640
UID:e.2719.4447
SEQUENCE:3
DTSTAMP:20260425T202821Z
URL:https://partners.exploreuptown.org/events/details/queer-dance-party-celebrating-joy-movement-and-community-4447
END:VEVENT

END:VCALENDAR
