BEGIN:VCALENDAR
VERSION:2.0
PRODID:-//ChamberMaster//Event Calendar 2.0//EN
METHOD:PUBLISH
X-PUBLISHED-TTL:P3D
REFRESH-INTERVAL:P3D
CALSCALE:GREGORIAN
BEGIN:VEVENT
DTSTART;VALUE=DATE:20250501
DTEND;VALUE=DATE:20250502
TRANSP:TRANSPARENT
X-MICROSOFT-CDO-ALLDAYEVENT:TRUE
SUMMARY:Reiki 1 Chicago Training
DESCRIPTION:Are you looking for something to help you center and balance your energy with other energies around you? \n\n\n\nAre you ready to reclaim your energetic physical\, mental\, and emotional space?\n\n\n\nDo you have a open mind and feel like you take on everything around you?\n\n\n\nWhat is Reiki?\n\nReiki is a gentle hands on or hand hovering practiced individually or shared with a friend.\n\nReiki can have positive affects with acute and chronic problems\, and helps spiritual growth and emotional healing\n\nRe: Super Life Force\n\nKi: Life Energy\n\nReiki can be learned by anyone!\n\n\n\nOriginated over 5\,000 years ago. Reiki was rediscovered by Dr. Mikao Usui on his final day of a 21 day fast in the Holy Mountain of Koriyama of Japan. Reiki has been practiced in the United States since 1930. Both powerful and gentle\, Reiki energy is a tool for use at any moment\, anytime\, anywhere!\n\n\n\nLimit 20 people per attunement.\n\nRegistration Closes 3 days prior to workshop\n\nCost: $248.00 (Includes materials and certificate of completion)\n\n**Continuing Education available to Massage Therapists and Registered Yoga Instructors\n\n\n\nCindy Huston is approved by the National Certification Board for Therapeutic Massage & Bodywork (NCBTMB) as a continuing education Approved Provider. 706340/30\n\nYoga Alliance Continuing Education Approved Provider ID:130372\n\n\n\nCE Course Registration Policy\n\n\n\n1. The registration process will depend on the location that the course is being held. Students will register with the front desk if provided at the location of where the course is being held. If no receptionist is available\, then students will contact the instructor directly to register.\n\n\n\n2. Students are encouraged to register for any course at a minimum of three days prior to the class. Students will be requested to consult the course instructor if they wish to join the class after the 3 day closing period.\n\n\n\n3. Students must cancel within 24 hours of the course date to receive a full refund. Refunds will be returned in the method that the payment was received.\n\n\n\nIf student fails to cancel their registration before the 24 hour period\, all student fees become non-refundable. Student fees from cancellation may be put toward a future course.
X-ALT-DESC;FMTTYPE=text/html:Are you looking for something to help you center and balance your energy with other energies around you?&nbsp\;<br />\n<br />\nAre you ready to reclaim your energetic physical\, mental\, and emotional space?<br />\n<br />\nDo you have a open mind and feel like you take on everything around you?<br />\n<br />\nWhat is Reiki?<br />\nReiki is a gentle hands on or hand hovering practiced individually or shared with a friend.<br />\nReiki can have positive affects with acute and chronic problems\, and helps spiritual growth and emotional healing<br />\nRe: Super Life Force<br />\nKi: Life Energy<br />\nReiki can be learned by anyone!<br />\n<br />\nOriginated over 5\,000 years ago. Reiki was rediscovered by Dr. Mikao Usui on his final day of a 21 day fast in the Holy Mountain of Koriyama of Japan. Reiki has been practiced in the United States since 1930. Both powerful and gentle\, Reiki energy is a tool for use at any moment\, anytime\, anywhere!<br />\n<br />\nLimit 20 people per attunement.<br />\nRegistration Closes 3 days prior to workshop<br />\nCost: $248.00 (Includes materials and certificate of completion)<br />\n**Continuing Education available to Massage Therapists and Registered Yoga Instructors<br />\n<br />\nCindy Huston is approved by the National Certification Board for Therapeutic Massage &amp\; Bodywork (NCBTMB) as a continuing education Approved Provider. 706340/30<br />\nYoga Alliance Continuing Education Approved Provider ID:130372<br />\n<br />\nCE Course Registration Policy<br />\n<br />\n1. The registration process will depend on the location that the course is being held. Students will register with the front desk if provided at the location of where the course is being held. If no receptionist is available\, then students will contact the instructor directly to register.<br />\n<br />\n2. Students are encouraged to register for any course at a minimum of three days prior to the class. Students will be requested to consult the course instructor if they wish to join the class after the 3 day closing period.<br />\n<br />\n3. Students must cancel within 24 hours of the course date to receive a full refund. Refunds will be returned in the method that the payment was received.<br />\n<br />\nIf student fails to cancel their registration before the 24 hour period\, all student fees become non-refundable. Student fees from cancellation may be put toward a future course.
LOCATION:Yoga Body Elements 4007 N. Broadway #202 Chicago\, IL 60613
UID:e.2719.4402
SEQUENCE:3
DTSTAMP:20260419T153114Z
URL:https://partners.exploreuptown.org/events/details/reiki-1-chicago-training-4402
END:VEVENT

END:VCALENDAR
