BEGIN:VCALENDAR
VERSION:2.0
PRODID:-//ChamberMaster//Event Calendar 2.0//EN
METHOD:PUBLISH
X-PUBLISHED-TTL:P3D
REFRESH-INTERVAL:P3D
CALSCALE:GREGORIAN
BEGIN:VEVENT
DTSTART;VALUE=DATE:20250628
DTEND;VALUE=DATE:20250629
TRANSP:TRANSPARENT
X-MICROSOFT-CDO-ALLDAYEVENT:TRUE
SUMMARY:Restorative Stretching for Massage Therapists Continuing Education
DESCRIPTION:Restorative Yoga Stretching for Massage Therapists\n\n5 CEs\n\nSaturday\, June 28th\, 2025\n\n1:00 pm-6:00 pm\n\n\n\nLocation: Yoga Body Elements\, Chicago\, IL\n\n\n\nTaking time for self care is important! This class is lead by Cindy Huston\, E-RYT Yoga Instructor\, LMT\, ABT\, and Reiki Teacher. Yoga is a mind and body practice that can help to increase awareness through breath. This course will provide you with tools to feel more confident creating your own self yoga practice. There will be in-depth discussion\, review\, and practice on how to properly support 12 Restorative Yoga Poses. This class is open to all levels. No prior yoga experience. Massage Therapists receive 5 CE Hours.\n\n\n\nCindy Huston is approved by the National Certification Board for Therapeutic Massage & Bodywork (NCBTMB) as a continuing education Approved Provider. 706340/30\n\n\n\nRegistration required\n\nhttps://yogabodyelements.com/product/restorative-stretching-for-lmts/
X-ALT-DESC;FMTTYPE=text/html:Restorative Yoga Stretching for Massage Therapists<br />\n5 CEs<br />\nSaturday\, June 28th\, 2025<br />\n1:00 pm-6:00 pm<br />\n<br />\nLocation: Yoga Body Elements\, Chicago\, IL<br />\n<br />\nTaking time for self care is important! This class is lead by Cindy Huston\, E-RYT Yoga Instructor\, LMT\, ABT\, and Reiki Teacher. Yoga is a mind and body practice that can help to increase awareness through breath. This course will provide you with tools to feel more confident creating your own self yoga practice. There will be in-depth discussion\, review\, and practice on how to properly support 12 Restorative Yoga Poses. This class is open to all levels. No prior yoga experience. Massage Therapists receive 5 CE Hours.<br />\n<br />\nCindy Huston is approved by the National Certification Board for Therapeutic Massage &amp\; Bodywork (NCBTMB) as a continuing education Approved Provider. 706340/30<br />\n<br />\nRegistration required<br />\nhttps://yogabodyelements.com/product/restorative-stretching-for-lmts/
LOCATION:Yoga Body Elements 2nd floor Chicago\, IL 60613
UID:e.2719.5664
SEQUENCE:3
DTSTAMP:20260425T202606Z
URL:https://partners.exploreuptown.org/events/details/restorative-stretching-for-massage-therapists-continuing-education-5664
END:VEVENT

END:VCALENDAR
