BEGIN:VCALENDAR
VERSION:2.0
PRODID:-//ChamberMaster//Event Calendar 2.0//EN
METHOD:PUBLISH
X-PUBLISHED-TTL:P3D
REFRESH-INTERVAL:P3D
CALSCALE:GREGORIAN
BEGIN:VEVENT
DTSTART:20170926T223000Z
DTEND:20170927T003000Z
X-MICROSOFT-CDO-ALLDAYEVENT:FALSE
SUMMARY:September Networking Mixer
DESCRIPTION:Join us Tuesday\, September 26\, for a networking mixer at The Reservoir!  Meet other business owners\, non-profit leaders\, and community members and enjoy great food and drinks at a fabulous Uptown location.\n\nThis mixer is a special event with Uptown's charitable and civic organizations. Uptown is home to an active community of not-for-profit organizations\, including arts organizations\, social service providers\, educational institutions and ethnic and cultural associations.  While many of these organizations are members of Business Partners\, they have unique needs as not-for-profit businesses.\n\nNon-profits and community organizations are eligible to receive the member discount for this event.  Contact Greg Carroll at greg@uptownbusinesspartners.com for promo code.  Non-members welcome! Refreshments will be provided.\n\nOur monthly Member Mixers build community among Uptown businesses and non-profits\, strengthening our local economy through the development of strategic partnerships.\n\n\n\nFROM OUR HOST:  THE RESERVOIR\n\n\n\nUptown's favorite local watering hole. Here you will find fine dining\, craft beer\, and specialty cocktails in a laid-back\, casual atmosphere. Come check out unique menu featuring shared plates\, some signature sandwiches\, and plenty more to please your palette. You won't be disappointed with our extensive craft beer selection and our cocktails will have you saying\, 'Yes\, please." So stop by for a visit. We would love to meet you.\n\n\n\nreservoirchicago.com
X-ALT-DESC;FMTTYPE=text/html:<div class="cc-block" id="cc-block3" style="margin: 0px 0px 18px\; padding: 0px\; overflow: hidden\; color: rgb(0\, 0\, 0)\; font-family: Georgia\, 'Times New Roman'\, Times\, serif\; font-size: 12px\; line-height: 17.4px\;">\n<p style="margin: 0px 0px 18px\; padding: 0px\;"><span style="font-size:16px\;"><span style="font-family:arial\;"><span title=""><span title="">Join us Tuesday\, September 26\, for a networking mixer at The Reservoir!&nbsp\; Meet other business owners\, non-profit leaders\,&nbsp\;and community members and enjoy great food and drinks at a fabulous Uptown location.</span></span></span></span></p>\n\n<p style="margin: 0px 0px 18px\; padding: 0px\;"><span style="font-size:16px\;"><span style="font-family:arial\;">This mixer is a special event with Uptown&#39\;s charitable and civic organizations.&nbsp\;Uptown is home to an active community of not-for-profit organizations\, including arts organizations\, social service providers\, educational institutions and ethnic and cultural associations.&nbsp\; While many of these organizations are members of Business Partners\, they have unique needs as not-for-profit businesses.</span></span></p>\n\n<p style="margin: 0px 0px 18px\; padding: 0px\;"><span style="font-size:16px\;"><span style="font-family:arial\;">Non-profits and community organizations are eligible to receive the member discount for this event.&nbsp\; Contact Greg Carroll at <a href="mailto:greg@uptownbusinesspartners.com">greg@uptownbusinesspartners.com</a> for promo code. &nbsp\;<span style="line-height: 23.2px\;" title="">Non-members welcome! Refreshments will be provided.</span></span></span></p>\n\n<p style="margin: 0px 0px 18px\; padding: 0px\;"><span style="font-size:16px\;"><span style="font-family:arial\;"><span title=""><span title="">Our monthly Member Mixers build community among Uptown businesses and non-profits\, strengthening our local economy through the development of strategic partnerships.<br />\n<br />\nFROM OUR HOST: &nbsp\;THE RESERVOIR</span></span><br />\n<br />\n<span style="color: rgb(29\, 33\, 41)\; background-color: rgb(255\, 255\, 255)\;">Uptown&#39\;s favorite local watering hole. Here you will find fine dining\, craft beer\, and specialty cocktails in a laid-back\, casual atmosphere. Come check out unique menu featuring shared plates\, some signature sandwiches\, and plenty more to please your palette. You won&#39\;t be disappointed with our extensive craft beer selection and our cocktails will have you saying\, &#39\;Yes\, please.&quot\; So stop by for a visit. We would love to meet you.</span><br />\n<br />\n<a href="http://reservoirchicago.com"><span style="color:#0000CD\;">reservoirchicago.com</span></a></span></span></p>\n</div>\n
LOCATION:The Reservoir\, 844 W Montrose Avenue
UID:e.2719.419
SEQUENCE:3
DTSTAMP:20260423T050341Z
URL:https://partners.exploreuptown.org/events/details/september-networking-mixer-419
END:VEVENT

END:VCALENDAR
