BEGIN:VCALENDAR
VERSION:2.0
PRODID:-//ChamberMaster//Event Calendar 2.0//EN
METHOD:PUBLISH
X-PUBLISHED-TTL:P3D
REFRESH-INTERVAL:P3D
CALSCALE:GREGORIAN
BEGIN:VEVENT
DTSTART:20250504T190000Z
DTEND:20250504T220000Z
X-MICROSOFT-CDO-ALLDAYEVENT:FALSE
SUMMARY:Sneak Peek Open House - Le Village Cowork Lakeview
DESCRIPTION:Continue the fun of the Toast of Uptown and stop by for wine and nibbles while you check out our amazing indoor/outdoor space\, which is available for private events!\n\n\n\nWe are Le Village - a community-centric coworking space with onsite childcare. We're currently taking registrations and booking events for our May 27th opening\, but will be open for a "sneak peek" during this special event.
X-ALT-DESC;FMTTYPE=text/html:Continue the fun of the Toast of Uptown and stop by for wine and nibbles while you check out our amazing indoor/outdoor space\, which is available for private events!<br />\n<br />\nWe are Le Village - a community-centric coworking space with onsite childcare. We&#39\;re currently taking registrations and booking events for our May 27th opening\, but will be open for a &quot\;sneak peek&quot\; during this special event.
LOCATION:4021 N Broadway Chicago IL 60613
UID:e.2719.5518
SEQUENCE:3
DTSTAMP:20260419T153656Z
URL:https://partners.exploreuptown.org/events/details/sneak-peek-open-house-le-village-cowork-lakeview-5518
END:VEVENT

END:VCALENDAR
