BEGIN:VCALENDAR
VERSION:2.0
PRODID:-//ChamberMaster//Event Calendar 2.0//EN
METHOD:PUBLISH
X-PUBLISHED-TTL:P3D
REFRESH-INTERVAL:P3D
CALSCALE:GREGORIAN
BEGIN:VEVENT
DTSTART:20220423T170000Z
DTEND:20220423T190000Z
X-MICROSOFT-CDO-ALLDAYEVENT:FALSE
SUMMARY:The Phenomenology of Love: the Reality of the Subjective and Objective
DESCRIPTION:The Phenomenology of Love: \n\nthe Reality of the Subjective and Objective\n\n\n\nApril 23rd\, 2022. Noon to 2pm.\n\nEmerald City Coffee\n\n1224 W. Wilson Ave\, Chicago\, IL. 60640\n\n \n\nLove is felt as one of the most real experiences which anyone can have. Yet\, at the same time\, to love something is personal\, sometimes intimate\, and always "subjective".\n\n \n\nJoin inspired speaker and published author Justin Carmien at Emerald City Coffee on April 23rd for an Enlightenment salon-styled event\, "The Phenomenology of Love". At this salon we will discuss the reality of the objective and subjective including the reality of each in private\, public and political life. Passages from the Austrian philosopher Ludwig Wittgenstein will guide us through the science and phenomenology of "the subjective".\n\n \n\nPlease let Brian @ Emerald City Coffee and Justin know about your interest in this event by RSVPing through the Meet Up group "Governance Futurism" here:\n\n \n\nhttps://www.meetup.com/governance-futurism/events/284719702/\n\n \n\nAdmission is free.
X-ALT-DESC;FMTTYPE=text/html:<span style="font-size:18px\;"><span style="font-family:times new roman\;"><strong><span style="background:white\;"><span style="color:black\;">The Phenomenology of Love: </span></span></strong><br />\n<strong><span style="background:white\;"><span style="color:black\;">the Reality of the Subjective and Objective</span></span></strong><br />\n<br />\n<span style="color:#000000\;">April 23rd\, 2022. Noon to 2pm.<br />\nEmerald City Coffee<br />\n<span style="background:white\;">1224 W. Wilson Ave\, Chicago\, IL. 60640</span></span><br />\n&nbsp\;<br />\n<span style="background:white\;"><span style="color:#222222\;">Love is felt as one of the most real experiences which anyone can have. Yet\, at the same time\, to love something is personal\, sometimes </span></span><span style="background:white\;"><span style="color:#222222\;">intimate</span></span><span style="background:white\;"><span style="color:#222222\;">\, and always </span></span><span style="background:white\;"><span style="color:#222222\;">&ldquo\;</span></span><span style="background:white\;"><span style="color:#222222\;">subjective</span></span><span style="background:white\;"><span style="color:#222222\;">&rdquo\;</span></span><span style="background:white\;"><span style="color:#222222\;">.</span></span><br />\n&nbsp\;<br />\n<span style="background:white\;"><span style="color:#222222\;">Join inspired speaker and published author Justin Carmien at Emerald City Coffee on April 23<sup>rd</sup> for an Enlightenment salon-styled event\, &ldquo\;The Phenomenology of Love&rdquo\;. At </span></span><span style="background:white\;"><span style="color:#222222\;">this salon </span></span><span style="background:white\;"><span style="color:#222222\;">we</span></span><span style="background:white\;"><span style="color:#222222\;"> will discuss the reality of </span></span><span style="background:white\;"><span style="color:#222222\;">the </span></span><span style="background:white\;"><span style="color:#222222\;">objective and subjective</span></span><span style="background:white\;"><span style="color:#222222\;">&mdash\;including the reality of each in private\, public and political life. Passages</span></span><span style="background:white\;"><span style="color:#222222\;"> from the Austrian philosopher Ludwig Wittgenstein </span></span><span style="background:white\;"><span style="color:#222222\;">will </span></span><span style="background:white\;"><span style="color:#222222\;">guide us through the </span></span><span style="background:white\;"><span style="color:#222222\;">science and </span></span><span style="background:white\;"><span style="color:#222222\;">phenomenology </span></span><span style="background:white\;"><span style="color:#222222\;">of &ldquo\;the subjective&rdquo\;.</span></span><br />\n&nbsp\;<br />\n<span style="background:white\;"><span style="color:#222222\;">Please let Brian @ Emerald City Coffee and Justin know about your interest in this event by RSVPing through the Meet Up group &ldquo\;Governance Futurism&rdquo\; here:</span></span><br />\n&nbsp\;<br />\n<a href="https://www.meetup.com/governance-futurism/events/284719702/" target="_blank"><span style="border:none windowtext 1.0pt\;padding:0in\;background:white\;"><span style="color:#1155CC\;">https://www.meetup.com/governance-futurism/events/284719702/</span></span></a><br />\n&nbsp\;<br />\n<span style="background:white\;"><span style="color:#222222\;">Admission is free.</span></span><br />\n&nbsp\;</span></span>
LOCATION:Emerald City Coffee 1224 W. Wilson Ave\, Chicago\, IL. 60640
UID:e.2719.1689
SEQUENCE:3
DTSTAMP:20260424T111819Z
URL:https://partners.exploreuptown.org/events/details/the-phenomenology-of-love-the-reality-of-the-subjective-and-objective-1689
END:VEVENT

END:VCALENDAR
