BEGIN:VCALENDAR
VERSION:2.0
PRODID:-//ChamberMaster//Event Calendar 2.0//EN
METHOD:PUBLISH
X-PUBLISHED-TTL:P3D
REFRESH-INTERVAL:P3D
CALSCALE:GREGORIAN
BEGIN:VEVENT
DTSTART;VALUE=DATE:20260330
DTEND;VALUE=DATE:20260405
TRANSP:TRANSPARENT
X-MICROSOFT-CDO-ALLDAYEVENT:TRUE
SUMMARY:The Road We Walk Together...Stations of the Cross
DESCRIPTION:This is a contemplative walk through the stations of the cross\, presented by the Wilson Abbey\, created by over 15 different artists. Viewers are invited to be one with the characters\, and the scenes presented with some participation available. The works of art are on a larger scale and can a larger impact on the viewer.
X-ALT-DESC;FMTTYPE=text/html:This is a contemplative walk through the stations of the cross\, presented by the Wilson Abbey\, created by over 15 different artists. Viewers are invited to be one with the characters\, and the scenes presented with some participation available. The works of art are on a larger scale and can a larger impact on the viewer.
LOCATION:The Road We Walk is displayed in the Auditorium of the Wilson Abbey\, 935 W Wilson Ave\, Uptown Chicago\, enter through Everybody's Coffee Shop.
UID:e.2719.6953
SEQUENCE:3
DTSTAMP:20260425T014250Z
URL:https://partners.exploreuptown.org/events/details/the-road-we-walk-together-stations-of-the-cross-6953
END:VEVENT

END:VCALENDAR
