BEGIN:VCALENDAR
VERSION:2.0
PRODID:-//ChamberMaster//Event Calendar 2.0//EN
METHOD:PUBLISH
X-PUBLISHED-TTL:P3D
REFRESH-INTERVAL:P3D
CALSCALE:GREGORIAN
BEGIN:VEVENT
DTSTART:20250504T190000Z
DTEND:20250504T220000Z
X-MICROSOFT-CDO-ALLDAYEVENT:FALSE
SUMMARY:Toast of Uptown 2025
DESCRIPTION:
X-ALT-DESC;FMTTYPE=text/html:<div class="o9v6fnle cxmmr5t8 oygrvhab hcukyx3x c1et5uql" color:="" font-size:="" segoe="" style="overflow-wrap: break-word\; margin: 0.5em 0px 0px\; font-family: " ui="">\n<p>&nbsp\;</p>\n</div>\n
LOCATION:
UID:e.2719.3942
SEQUENCE:3
DTSTAMP:20260419T153523Z
URL:https://partners.exploreuptown.org/events/details/toast-of-uptown-2025-3942
END:VEVENT

END:VCALENDAR
