BEGIN:VCALENDAR
VERSION:2.0
PRODID:-//ChamberMaster//Event Calendar 2.0//EN
METHOD:PUBLISH
X-PUBLISHED-TTL:P3D
REFRESH-INTERVAL:P3D
CALSCALE:GREGORIAN
BEGIN:VEVENT
DTSTART;VALUE=DATE:20250608
DTEND;VALUE=DATE:20250609
TRANSP:TRANSPARENT
X-MICROSOFT-CDO-ALLDAYEVENT:TRUE
SUMMARY:Unveiling Your Mayan Soul
DESCRIPTION:The day you were born you received a Mayan Ch'umil.\n\nDiscover the energy encoded in your birth and unlock the wisdom of your soul.\n\nJoin us for an intimate and empowering class (limited to 10 participants) where you'll be introduced to your Ch'umil the sacred energy of the day you were born according to the Mayan Cholq'ij calendar. This ancient system offers deep insight into your gifts\, challenges\, destiny\, and soul's path.\n\nWe'll begin with an overview of the Mayan sacred calendar and how its 20 nawales serve as spiritual companions and teachers. You'll then receive your personal Ch'umil and explore its symbolism\, elemental connection\, and role in your life's journey.\n\nMeet your teacher Laura Solis.\n\nLaura is a nurse by profession\, but her calling to healing goes far beyond the clinical setting. Her path is rooted in ancestral medicine her great-grandfather was a respected Mayan shaman in Guatemala\, and his legacy continues through her work.\n\nShe is a Shamanic Healing Practitioner and energy healer\, trained in modalities such as Chio and Reiki. As a Mayan Ajq'ij (spiritual guide) and Day Keeper of the Mayan Calendar\, Laura blends ancient wisdom with intuitive healing to support spiritual awakening\, balance\, and transformation.\n\nOr this more simple\n\nLaura is a nurse\, Mayan Ajq'ij\, and Shamanic Healing Practitioner. With roots in ancestral medicine her great-grandfather was a Mayan shaman she blends energy work\, calendar wisdom\, and spiritual guidance to support healing and transformation.
X-ALT-DESC;FMTTYPE=text/html:<div>The day you were born you received a Mayan Ch&#39\;umil.<br />\nDiscover the energy encoded in your birth and unlock the wisdom of your soul.</div>\n\n<div>Join us for an intimate and empowering class (limited to 10 participants) where you&rsquo\;ll be introduced to your Ch&rsquo\;umil&mdash\;the sacred energy of the day you were born according to the Mayan Cholq&rsquo\;ij calendar. This ancient system offers deep insight into your gifts\, challenges\, destiny\, and soul&rsquo\;s path.</div>\n\n<div>We&rsquo\;ll begin with an overview of the Mayan sacred calendar and how its 20 nawales serve as spiritual companions and teachers. You&rsquo\;ll then receive your personal Ch&rsquo\;umil and explore its symbolism\, elemental connection\, and role in your life&rsquo\;s journey.</div>\n\n<div>Meet your teacher Laura Solis.</div>\n\n<div>Laura is a nurse by profession\, but her calling to healing goes far beyond the clinical setting. Her path is rooted in ancestral medicine&mdash\;her great-grandfather was a respected Mayan shaman in Guatemala\, and his legacy continues through her work.</div>\n\n<div>She is a Shamanic Healing Practitioner and energy healer\, trained in modalities such as Chio and Reiki. As a Mayan Ajq&rsquo\;ij (spiritual guide) and Day Keeper of the Mayan Calendar\, Laura blends ancient wisdom with intuitive healing to support spiritual awakening\, balance\, and transformation.</div>\n\n<div>Or this more simple<br />\nLaura is a nurse\, Mayan Ajq&rsquo\;ij\, and Shamanic Healing Practitioner. With roots in ancestral medicine&mdash\;her great-grandfather was a Mayan shaman&mdash\;she blends energy work\, calendar wisdom\, and spiritual guidance to support healing and transformation.</div>\n
LOCATION:Yoga Body Elements 4007 N. Broadway 2nd floor Chicago\, IL
UID:e.2719.5529
SEQUENCE:3
DTSTAMP:20260425T214109Z
URL:https://partners.exploreuptown.org/events/details/unveiling-your-mayan-soul-5529
END:VEVENT

END:VCALENDAR
