BEGIN:VCALENDAR
VERSION:2.0
PRODID:-//ChamberMaster//Event Calendar 2.0//EN
METHOD:PUBLISH
X-PUBLISHED-TTL:P3D
REFRESH-INTERVAL:P3D
CALSCALE:GREGORIAN
BEGIN:VEVENT
DTSTART:20240913T223000Z
DTEND:20240915T030000Z
X-MICROSOFT-CDO-ALLDAYEVENT:FALSE
SUMMARY:Uptown Rhythm Festival
DESCRIPTION:At Uptown Rhythm Festival\, our mission is to create a distinctive dance experience that goes beyond music and movement. We are dedicated to fostering a deep connection with nature\, promoting environmental justice\, and advocating for a sustainable lifestyle. The festival serves as a platform to raise awareness about pressing environmental issues while celebrating the beauty of our natural surroundings through the universal language of dance. Join us in this movement towards a more harmonious coexistence with our planet.
X-ALT-DESC;FMTTYPE=text/html:<span style="font-family:tahoma\;"><span style="font-size:14px\;"><span style="color: rgb(0\, 0\, 0)\; white-space-collapse: preserve\;">At Uptown Rhythm Festival\, our mission is to create a distinctive dance experience that goes beyond music and movement. We are dedicated to fostering a deep connection with nature\, promoting environmental justice\, and advocating for a sustainable lifestyle. The festival serves as a platform to raise awareness about pressing environmental issues while celebrating the beauty of our natural surroundings through the universal language of dance. Join us in this movement towards a more harmonious coexistence with our planet.</span></span></span>
LOCATION:Located in Uptown\, Chicago\, Illinois. Located on the lakefront between Foster and Lawrence Avenue on Simmonds Drive Keyboard shortcuts Map data 2024 100 m Terms 5100 N Simmonds Drive Chicago\, Illinois
UID:e.2719.3760
SEQUENCE:3
DTSTAMP:20260421T122440Z
URL:https://partners.exploreuptown.org/events/details/uptown-rhythm-festival-3760
END:VEVENT

END:VCALENDAR
