BEGIN:VCALENDAR
VERSION:2.0
PRODID:-//ChamberMaster//Event Calendar 2.0//EN
METHOD:PUBLISH
X-PUBLISHED-TTL:P3D
REFRESH-INTERVAL:P3D
CALSCALE:GREGORIAN
BEGIN:VEVENT
DTSTART;VALUE=DATE:20250506
DTEND;VALUE=DATE:20250507
TRANSP:TRANSPARENT
X-MICROSOFT-CDO-ALLDAYEVENT:TRUE
SUMMARY:Uptown Wellness Networking
DESCRIPTION:Uptown Wellness Festival Networking!\n\nAmazing collective of global wellness leaders are coming together in Chicago\, IL USA.\n\nNetwork with leading experts in the health and wellness industry.\n\nTuesday\, May 6th\, 2025\n\n6:00 pm-8:30 pm\n\nPre-registration required\n\n$12.00\n\nor\n\n$108.00 annual membership.\n\nPre-registration required.\n\nAttendees must currently operate a registered wellness business\, or practice with a current license or certification in the wellness industry.\n\nIn efforts to maintain integrity with in the event\, each guest will be asked to provide their credits before each networking event.\n\nSpace is limited to twenty guests each event.
X-ALT-DESC;FMTTYPE=text/html:<div>Uptown Wellness Festival Networking!</div>\n\n<div>Amazing collective of global wellness leaders are coming together in Chicago\, IL USA.</div>\n\n<div>Network with leading experts in the health and wellness industry.</div>\n\n<div>Tuesday\, May 6th\, 2025<br />\n6:00 pm-8:30 pm</div>\n\n<div>Pre-registration required<br />\n$12.00<br />\nor<br />\n$108.00 annual membership.</div>\n\n<div>Pre-registration required.</div>\n\n<div>Attendees must currently operate a registered wellness business\, or practice with a current license or certification in the wellness industry.<br />\nIn efforts to maintain integrity with in the event\, each guest will be asked to provide their credits before each networking event.</div>\n\n<div>Space is limited to twenty guests each event.&nbsp\;</div>\n
LOCATION:Yoga Body Elements 4007 N. Broadway Chicago\, IL 60613
UID:e.2719.5510
SEQUENCE:3
DTSTAMP:20260419T152309Z
URL:https://partners.exploreuptown.org/events/details/uptown-wellness-networking-5510
END:VEVENT

END:VCALENDAR
