BEGIN:VCALENDAR
VERSION:2.0
PRODID:-//ChamberMaster//Event Calendar 2.0//EN
METHOD:PUBLISH
X-PUBLISHED-TTL:P3D
REFRESH-INTERVAL:P3D
CALSCALE:GREGORIAN
BEGIN:VEVENT
DTSTART;VALUE=DATE:20250510
DTEND;VALUE=DATE:20250511
TRANSP:TRANSPARENT
X-MICROSOFT-CDO-ALLDAYEVENT:TRUE
SUMMARY:Uptown Wellness Retreat Chicago
DESCRIPTION:Chicago's urban retreat with Uptown Wellness Festival at Yoga Body Elements. \n\nFull day of restoration and selfcare.\n\n\n\n9:30 am Check-in\n\n10:00 am Restorative Yoga\n\n11:00 am Connection Circle\n\nNoon Nature Walk\n\n1:00 pm Water Ceremony\n\n2:00 pm Lunch\n\n3:00 pm Sound bath\n\n4:00 pm Art\n\n5:00 pm Closing Circle\n\n\n\nWhat to bring? \n\n-Dress comfortable with walking shoes\n\n-Journal\n\n-Water bottle\,  plate\, and silverware\n\n-Instrument if you have one (drum\, shaker\, kartals)\n\n-Flowers\, incense\, and vegan dessert welcome. \n\n\n\nFull registration\n\n$229.00 includes lunch\n\n$184.00 early bird includes lunch before May 5th\, 2025\n\n\n\nPre-registration 24 hour before recommended. \n\nSpace is limited\n\n\n\nQuestions?\n\nText the wellness center 773-891-7071\n\nor email cindy@cindyhuston.com
X-ALT-DESC;FMTTYPE=text/html:Chicago&#39\;s urban retreat with Uptown Wellness Festival at Yoga Body Elements.&nbsp\;<br />\nFull day of restoration and selfcare.<br />\n<br />\n9:30 am Check-in<br />\n10:00 am Restorative Yoga<br />\n11:00 am Connection Circle<br />\nNoon Nature Walk<br />\n1:00 pm Water Ceremony<br />\n2:00 pm Lunch<br />\n3:00 pm Sound bath<br />\n4:00 pm Art<br />\n5:00 pm Closing Circle<br />\n<br />\nWhat to bring?&nbsp\;<br />\n-Dress comfortable with walking shoes<br />\n-Journal<br />\n-Water bottle\,&nbsp\; plate\, and silverware<br />\n-Instrument if you have one (drum\, shaker\, kartals)<br />\n-Flowers\, incense\, and vegan dessert welcome.&nbsp\;<br />\n<br />\nFull registration<br />\n$229.00 includes lunch<br />\n$184.00 early bird includes lunch before May 5th\, 2025<br />\n<br />\nPre-registration 24 hour before recommended.&nbsp\;<br />\nSpace is limited<br />\n<br />\nQuestions?<br />\nText the wellness center 773-891-7071<br />\nor email cindy@cindyhuston.com
LOCATION:Yoga Body Elements 2nd floor Chicago\, IL 60613 *press #202 slowly
UID:e.2719.4524
SEQUENCE:3
DTSTAMP:20260419T153427Z
URL:https://partners.exploreuptown.org/events/details/uptown-wellness-retreat-chicago-4524
END:VEVENT

END:VCALENDAR
