BEGIN:VCALENDAR
VERSION:2.0
PRODID:-//ChamberMaster//Event Calendar 2.0//EN
METHOD:PUBLISH
X-PUBLISHED-TTL:P3D
REFRESH-INTERVAL:P3D
CALSCALE:GREGORIAN
BEGIN:VEVENT
DTSTART;VALUE=DATE:20250507
DTEND;VALUE=DATE:20250508
TRANSP:TRANSPARENT
X-MICROSOFT-CDO-ALLDAYEVENT:TRUE
SUMMARY:Wellness Wednesdays at Uptown Farmer's Market
DESCRIPTION:Wellness Wednesdays\n\nwith Yoga Body Elements Studio\n\nat Uptown Farmers Market\n\n3:00 pm!\n\n\n\n$12.00\n\n\n\nPre-register at\n\nwww.yogabodyelements.com/events\n\n\n \n\n\n\n\n\n****\n\nJoin the newsletter to stay updated with more wellness offerings happening with Cindy Huston\, Yoga Body Elements Chicago\n\n\n\nEmail cindy@cindyhuston.com\n\nSubject: Newsletter
X-ALT-DESC;FMTTYPE=text/html:<div>\n<div>Wellness Wednesdays</div>\n\n<div>with <span style="font-family:inherit"><a class="x1i10hfl xjbqb8w x1ejq31n xd10rxx x1sy0etr x17r0tee x972fbf xcfux6l x1qhh985 xm0m39n x9f619 x1ypdohk xt0psk2 xe8uvvx xdj266r x11i5rnm xat24cr x1mh8g0r xexx8yu x4uap5 x18d9i69 xkhd6sd x16tdsg8 x1hl2dhg xggy1nq x1a2a7pz xkrqix3 x1sur9pj x1fey0fg x1s688f" href="https://www.facebook.com/YOGABODYELEMENTS?__cft__[0]=AZUVPrPJdVeC-Q0pjLA1u_GbJH9LJ2p2Z6cWnQVeWcSJImbFihdKFNEg0gFsaPXzWKti5TWn_7pWbs5MurSf15_PFJ33ZqOzlDYK-EUp_JUs-psdd92Uw3A3Is0X9No0awEnbr179VDQTLpnMk_YkvlkLHOVDT0iiuMNDy77qRHMTA&amp\;__tn__=-]K-R" style="color: rgb(90\, 167\, 255)\; cursor: pointer\; text-decoration-line: none\; list-style: none\; margin: 0px\; text-align: inherit\; border-style: none\; padding: 0px\; box-sizing: border-box\; border-width: 0px\; outline: none\; -webkit-tap-highlight-color: transparent\; font-weight: 600\; touch-action: manipulation\; background-color: transparent\; display: inline\; font-family: inherit\;" tabindex="0"><span style="font-family:inherit">Yoga Body Elements Studio</span></a></span></div>\n\n<div>at <span style="font-family:inherit"><a class="x1i10hfl xjbqb8w x1ejq31n xd10rxx x1sy0etr x17r0tee x972fbf xcfux6l x1qhh985 xm0m39n x9f619 x1ypdohk xt0psk2 xe8uvvx xdj266r x11i5rnm xat24cr x1mh8g0r xexx8yu x4uap5 x18d9i69 xkhd6sd x16tdsg8 x1hl2dhg xggy1nq x1a2a7pz xkrqix3 x1sur9pj x1fey0fg x1s688f" href="https://www.facebook.com/UFMChicago?__cft__[0]=AZUVPrPJdVeC-Q0pjLA1u_GbJH9LJ2p2Z6cWnQVeWcSJImbFihdKFNEg0gFsaPXzWKti5TWn_7pWbs5MurSf15_PFJ33ZqOzlDYK-EUp_JUs-psdd92Uw3A3Is0X9No0awEnbr179VDQTLpnMk_YkvlkLHOVDT0iiuMNDy77qRHMTA&amp\;__tn__=-]K-R" style="color: rgb(90\, 167\, 255)\; cursor: pointer\; text-decoration-line: none\; list-style: none\; margin: 0px\; text-align: inherit\; border-style: none\; padding: 0px\; box-sizing: border-box\; border-width: 0px\; outline: none\; -webkit-tap-highlight-color: transparent\; font-weight: 600\; touch-action: manipulation\; background-color: transparent\; display: inline\; font-family: inherit\;" tabindex="0"><span style="font-family:inherit">Uptown Farmers Market</span></a></span></div>\n\n<div>3:00 pm!</div>\n</div>\n\n<div>\n<div>$12.00</div>\n</div>\n\n<div>\n<div>Pre-register at</div>\n\n<div><span style="font-family:inherit"><a class="x1i10hfl xjbqb8w x1ejq31n xd10rxx x1sy0etr x17r0tee x972fbf xcfux6l x1qhh985 xm0m39n x9f619 x1ypdohk xt0psk2 xe8uvvx xdj266r x11i5rnm xat24cr x1mh8g0r xexx8yu x4uap5 x18d9i69 xkhd6sd x16tdsg8 x1hl2dhg xggy1nq x1a2a7pz xkrqix3 x1sur9pj x1fey0fg x1s688f" href="http://www.yogabodyelements.com/events?fbclid=IwZXh0bgNhZW0CMTAAAR4M7IPYDz1WyqUPQs5GhorQKj5XiWNwghfiKap13w0MNewF6ndXQ9fZHpC6zA_aem_lIrpjq0qrrCiQvPaxLCx_w" rel="nofollow noreferrer" style="color: rgb(90\, 167\, 255)\; cursor: pointer\; text-decoration-line: none\; list-style: none\; margin: 0px\; text-align: inherit\; border-style: none\; padding: 0px\; box-sizing: border-box\; border-width: 0px\; outline: none\; -webkit-tap-highlight-color: transparent\; font-weight: 600\; touch-action: manipulation\; background-color: transparent\; display: inline-block\; font-family: inherit\;" tabindex="0" target="_blank">www.yogabodyelements.com/events</a></span>\n\n<div>\n<div>&nbsp\;</div>\n</div>\n</div>\n</div>\n\n<div>\n<div>****</div>\n\n<div>Join the newsletter to stay updated with more wellness offerings happening with <span style="font-family:inherit"><a class="x1i10hfl xjbqb8w x1ejq31n xd10rxx x1sy0etr x17r0tee x972fbf xcfux6l x1qhh985 xm0m39n x9f619 x1ypdohk xt0psk2 xe8uvvx xdj266r x11i5rnm xat24cr x1mh8g0r xexx8yu x4uap5 x18d9i69 xkhd6sd x16tdsg8 x1hl2dhg xggy1nq x1a2a7pz xkrqix3 x1sur9pj x1fey0fg x1s688f" href="https://www.facebook.com/cindyhustonreikiyogamassage?__cft__[0]=AZUVPrPJdVeC-Q0pjLA1u_GbJH9LJ2p2Z6cWnQVeWcSJImbFihdKFNEg0gFsaPXzWKti5TWn_7pWbs5MurSf15_PFJ33ZqOzlDYK-EUp_JUs-psdd92Uw3A3Is0X9No0awEnbr179VDQTLpnMk_YkvlkLHOVDT0iiuMNDy77qRHMTA&amp\;__tn__=-]K-R" style="color: rgb(90\, 167\, 255)\; cursor: pointer\; text-decoration-line: none\; list-style: none\; margin: 0px\; text-align: inherit\; border-style: none\; padding: 0px\; box-sizing: border-box\; border-width: 0px\; outline: none\; -webkit-tap-highlight-color: transparent\; font-weight: 600\; touch-action: manipulation\; background-color: transparent\; display: inline\; font-family: inherit\;" tabindex="0"><span style="font-family:inherit">Cindy Huston\, Yoga Body Elements Chicago</span></a></span></div>\n</div>\n\n<div>\n<div>Email cindy@cindyhuston.com</div>\n\n<div>Subject: Newsletter</div>\n</div>\n
LOCATION:Uptown Farmer's Market 1250 W. Sunnyside Ave\, Chicago\, IL 60640
UID:e.2719.5506
SEQUENCE:3
DTSTAMP:20260419T153814Z
URL:https://partners.exploreuptown.org/events/details/wellness-wednesdays-at-uptown-farmer-s-market-5506
END:VEVENT

END:VCALENDAR
