BEGIN:VCALENDAR
VERSION:2.0
PRODID:-//ChamberMaster//Event Calendar 2.0//EN
METHOD:PUBLISH
X-PUBLISHED-TTL:P3D
REFRESH-INTERVAL:P3D
CALSCALE:GREGORIAN
BEGIN:VEVENT
DTSTART;VALUE=DATE:20250512
DTEND;VALUE=DATE:20250513
TRANSP:TRANSPARENT
X-MICROSOFT-CDO-ALLDAYEVENT:TRUE
SUMMARY:Women's Circle Chicago
DESCRIPTION:Women's Circle Chicago is a monthly gathering. We will gather on a Monday (Moon Day) each month to celebrate\, move our bodies\, personally and collectively set intentions\, and serve our community together.\n\nEach gathering creates the possibility for connection through dancing/movement\, song\, bodycare products\, meditations/yoga\, and a and a closing circle.\n\n*bring a mug for cacao\n\n\n\nSerena will share an overview of a book she writing on holistic perspectives on stress with a tentative release date of October 2026.  Serena is converting the book into an online coaching program. In the circle\, we will experience an overview of the "holistic" stress experience: exploring the six areas from a Western perspective and the associated Eastern chakra perspective.\n\n\n\nParticipants will have the opportunity to apply learned concepts.\n\n\n\n\n\nMeet Serena Wadhwa:\n\n\n\nSerena Wadhwa\, Psy.D.\, LCPC\, CADC is a trainer and presenter for clinical and non-clinical professionals relating to her expertise in substance use disorders\, stress\, blocks to change\, and other topics. She is an author\, tenured professor\, supervisor\, connector\, idea generator\, harm reduction advocate\, behavioral transformation coach/licensed counselor\, and a spiritual visionary leader. She utilizes her training\, education\, lived experience\, research\, and intuitive gifts to serve others.  She completed the Certified Clinical Trauma Professional Training in 2018 and Hatha Yoga Training in 2015. She is authoring two books\, tentatively scheduled for release in 2026 and 2027.   Her blog\, Insights from the Inside tentatively begins in 2025.\n\nwww.drserenawadhwa.com\n\n\n\nYour organizer and facilitator Cindy Huston\, founder of Yoga Body Elements\, held monthly circles 2009-2010 "Her-Ray-She-Moon" women's circle and is excited to bring women together in this way\, again.\n\n\n\nWould you like to be considered as a Women's Circle Chicago guest lead?\n\nEmail your offering to cindy@cindyhuston.com\n\n\n\nSponsorship: Would you like to sponsor a Women's Circle Chicago event\, or sponsor "give it forward" individual spots to women who would like to attend Women's Circle Chicago?\n\n\n\nThank you for your generosity.
X-ALT-DESC;FMTTYPE=text/html:Women&#39\;s Circle Chicago is a monthly gathering. We will gather on a Monday (Moon Day) each month to celebrate\, move our bodies\, personally and collectively set intentions\, and serve our community together.<br />\nEach gathering creates the possibility for connection through dancing/movement\, song\, bodycare products\, meditations/yoga\, and a and a closing circle.<br />\n*bring a mug for cacao<br />\n<br />\nSerena will share an overview of a book she writing on holistic perspectives on stress with a tentative release date of October 2026.&nbsp\; Serena is converting the book into an online coaching program. In the circle\, we will experience an overview of the &quot\;holistic&quot\; stress experience: exploring the six areas from a Western perspective and the associated Eastern chakra perspective.<br />\n<br />\nParticipants will have the opportunity to apply learned concepts.<br />\n<br />\n<br />\nMeet Serena Wadhwa:<br />\n<br />\nSerena Wadhwa\, Psy.D.\, LCPC\, CADC is a trainer and presenter for clinical and non-clinical professionals relating to her expertise in substance use disorders\, stress\, blocks to change\, and other topics. She is an author\, tenured professor\, supervisor\, connector\, idea generator\, harm reduction advocate\, behavioral transformation coach/licensed counselor\, and a spiritual visionary leader. She utilizes her training\, education\, lived experience\, research\, and intuitive gifts to serve others.&nbsp\; She completed the Certified Clinical Trauma Professional Training in 2018 and Hatha Yoga Training in 2015. She is authoring two books\, tentatively scheduled for release in 2026 and 2027.&nbsp\; &nbsp\;Her blog\, Insights from the Inside tentatively begins in 2025.<br />\nwww.drserenawadhwa.com<br />\n<br />\nYour organizer and facilitator Cindy Huston\, founder of Yoga Body Elements\, held monthly circles 2009-2010 &quot\;Her-Ray-She-Moon&quot\; women&#39\;s circle and is excited to bring women together in this way\, again.<br />\n<br />\nWould you like to be considered as a Women&#39\;s Circle Chicago guest lead?<br />\nEmail your offering to cindy@cindyhuston.com<br />\n<br />\nSponsorship: Would you like to sponsor a Women&#39\;s Circle Chicago event\, or sponsor &quot\;give it forward&quot\; individual spots to women who would like to attend Women&#39\;s Circle Chicago?<br />\n<br />\nThank you for your generosity.
LOCATION:Yoga Body Elements Chicago\, IL 60613
UID:e.2719.5511
SEQUENCE:3
DTSTAMP:20260419T153431Z
URL:https://partners.exploreuptown.org/events/details/women-s-circle-chicago-05-12-2025-5511
END:VEVENT

END:VCALENDAR
