BEGIN:VCALENDAR
VERSION:2.0
PRODID:-//ChamberMaster//Event Calendar 2.0//EN
METHOD:PUBLISH
X-PUBLISHED-TTL:P3D
REFRESH-INTERVAL:P3D
CALSCALE:GREGORIAN
BEGIN:VEVENT
DTSTART:20180316T133000Z
DTEND:20180317T023000Z
X-MICROSOFT-CDO-ALLDAYEVENT:FALSE
SUMMARY:Women's Networking Mixer
DESCRIPTION:Join us on Friday\, March 16 for the Uptown Women's Networking Mixer at First Sip Cafe!  Meet and connect with other women leaders from local businesses and non-profit organizations across Uptown while enjoying a cup of coffee or tea and pastries.  Join us to learn more about how you can help shape future women's networking events in Uptown.  \n\n\n\nOur networking events build community among Uptown businesses\, non-profits and neighborhood groups\, strengthening our local economy through the development of strategic partnerships.\n\n\n\nLearn more about the story behind First Sip Cafe and the sisters who started this business here!
X-ALT-DESC;FMTTYPE=text/html:<div class="cc-block" id="cc-block3" style="margin: 0px 0px 18px\; padding: 0px\; overflow: hidden\; color: rgb(0\, 0\, 0)\; font-family: Georgia\, 'Times New Roman'\, Times\, serif\; font-size: 12px\; line-height: 17.4px\;">\n<p style="margin: 0px 0px 18px\; padding: 0px\;"><span style="font-family: arial\; font-size: 14px\;">Join us on Friday\, March 16 for the Uptown Women&#39\;s Networking Mixer at First Sip Cafe!&nbsp\; Meet and connect with other women leaders from local businesses and non-profit organizations across Uptown while enjoying a cup of coffee or tea and pastries.&nbsp\; Join us to learn more about how you can help shape future women&#39\;s networking events in Uptown.&nbsp\;&nbsp\;</span><br style="font-family: arial\; font-size: 14px\;" />\n<br style="font-family: arial\; font-size: 14px\;" />\n<span style="font-family: arial\; font-size: 14px\;">Our networking events build community among Uptown businesses\, non-profits and neighborhood groups\, strengthening our local economy through the development of strategic partnerships.</span><br />\n<br />\n<span style="color: rgb(0\, 0\, 0)\; font-family: arial\; font-size: 14px\;">Learn more about the story behind First Sip Cafe and the sisters who started this business&nbsp\;</span><a href="http://www.chicagotribune.com/dining/ct-food-restaurant-openings-20171115-story.html" style="font-family: arial\; font-size: 14px\;">here</a><span style="color: rgb(0\, 0\, 0)\; font-family: arial\; font-size: 14px\;">!&nbsp\;&nbsp\;</span></p>\n</div>\n
LOCATION:First Sip Cafe\, 1057 W. Argyle St.\, Chicago\, IL 60640
UID:e.2719.424
SEQUENCE:3
DTSTAMP:20260424T150518Z
URL:https://partners.exploreuptown.org/events/details/women-s-networking-mixer-424
END:VEVENT

END:VCALENDAR
