BEGIN:VCALENDAR
VERSION:2.0
PRODID:-//ChamberMaster//Event Calendar 2.0//EN
METHOD:PUBLISH
X-PUBLISHED-TTL:P3D
REFRESH-INTERVAL:P3D
CALSCALE:GREGORIAN
BEGIN:VEVENT
DTSTART:20220224T180000Z
DTEND:20220224T193000Z
X-MICROSOFT-CDO-ALLDAYEVENT:FALSE
SUMMARY:Working Lunch: Iyanze West African
DESCRIPTION:Join us from noon to 1:30 PM next Thursday\, February 24th at Iyanze Caf  and Bar where we will gather for a West African "working lunch" lunch presented by owner Emmanuel Abidemi.Emmanuel is providing context to their menu for attendees\, who will be filling up on a variety of menu items.\n\n \n\nWe're excited to celebrate Emmanuel and his mother Beatrice\, originally from Nigeria\, who are trailblazers among the many West African entrepreneurs who call Uptown home.Their nearly 30-year old family business opened Bolat in 1994 on Lawrence Avenue in Uptown\, expanded to Lakeview\, then opened Iyanze in Uptown\, and last fall opened a second Iyanze location in Bronzeville at 51st and Prairie.\n\nWe have so many new members this year!  Our "working lunch" event allows us a moment to welcome new members and provide for all membership an orientation to our upcoming marketing opportunities and an introduction to our staff. \n\nNew and existing members will learn how to maximize the value of their membership\, get insider-track info on the 2022-23 printed Uptown Guide\, preview availability for the Uptown street pole banner program\, and utilize exploreuptown.org to get seen!\n\n\n\nTreat your staff to lunch and set them up to represent your business and make your brand more visible.Attendance\, which includes a variety of food (all beverages are separate) is $30.00 for members and $40.00 for non-members.Vegetarian options will be available.\n\n \n\nREGISTER HERE\n\n \n\n \n\nPlease reach out with any questions.
X-ALT-DESC;FMTTYPE=text/html:<div class="cc-block" id="cc-block3" style="margin: 0px 0px 18px\; padding: 0px\; overflow: hidden\; color: rgb(0\, 0\, 0)\; line-height: 17.4px\;">\n<p style="margin: 0px 0px 18px\; padding: 0px\;">Join us from noon to 1:30 PM next Thursday\, February 24<sup>th</sup> at Iyanze Caf&eacute\; and Bar where we will gather for a West African &ldquo\;working lunch&rdquo\; lunch presented by owner Emmanuel Abidemi.Emmanuel is providing context to their menu for attendees\, who will be filling up on a variety of menu items.<br />\n&nbsp\;<br />\nWe&rsquo\;re excited to celebrate Emmanuel and his mother Beatrice\, originally from Nigeria\, who are trailblazers among the many West African entrepreneurs who call Uptown home.Their nearly 30-year old family business opened Bolat in 1994 on Lawrence Avenue in Uptown\, expanded to Lakeview\, then opened Iyanze in Uptown\, and last fall opened a second Iyanze location in Bronzeville at 51<sup>st</sup> and Prairie.<br />\nWe have so many new members this year!&nbsp\; Our &ldquo\;working lunch&rdquo\; event allows us a moment to welcome new members and provide for all membership an orientation to our upcoming marketing opportunities and an introduction to our staff.&nbsp\;<br />\nNew and existing members will learn how to maximize the value of their membership\, get insider-track info on the 2022-23 printed Uptown Guide\, preview availability for the Uptown street pole banner program\, and utilize exploreuptown.org to get seen!<br />\n<br />\nTreat your staff to lunch and set them up to represent your business and make your brand more visible.Attendance\, which includes a variety of food (all beverages are separate) is $30.00 for members and $40.00 for non-members.Vegetarian options will be available.<br />\n&nbsp\;<br />\n<a href="https://exploreuptown.org/event/working-lunch-iyanze-west-african/">REGISTER HERE</a><br />\n&nbsp\;<br />\n&nbsp\;<br />\nPlease reach out with any questions.<br />\n<br />\n&nbsp\;</p>\n</div>\n
LOCATION:Iyanze Bar and Cafe is located at 4623 N Broadway in Uptown.
UID:e.2719.1678
SEQUENCE:3
DTSTAMP:20260422T035714Z
URL:https://partners.exploreuptown.org/events/details/working-lunch-iyanze-west-african-1678
END:VEVENT

END:VCALENDAR
